BEGIN:VCALENDAR
VERSION:2.0
PRODID:-//Automotive/Restoration Club of SCW - ECPv6.15.20//NONSGML v1.0//EN
CALSCALE:GREGORIAN
METHOD:PUBLISH
X-WR-CALNAME:Automotive/Restoration Club of SCW
X-ORIGINAL-URL:https://arcofscw.com
X-WR-CALDESC:Events for Automotive/Restoration Club of SCW
REFRESH-INTERVAL;VALUE=DURATION:PT1H
X-Robots-Tag:noindex
X-PUBLISHED-TTL:PT1H
BEGIN:VTIMEZONE
TZID:America/Phoenix
BEGIN:STANDARD
TZOFFSETFROM:-0700
TZOFFSETTO:-0700
TZNAME:MST
DTSTART:20250101T000000
END:STANDARD
END:VTIMEZONE
BEGIN:VEVENT
DTSTART;TZID=America/Phoenix:20260613T080000
DTEND;TZID=America/Phoenix:20260614T170000
DTSTAMP:20260422T114102
CREATED:20260414T135127Z
LAST-MODIFIED:20260414T135127Z
UID:21376-1781337600-1781456400@arcofscw.com
SUMMARY:Watson Lake Car Show
DESCRIPTION:Join other ARC members and our Raffle car at the Prescott – Watson Lake Show in June 13th  & 14th
URL:https://arcofscw.com/event/watson-lake-car-show
LOCATION:Watson Lake\, Prescott\, AZ\, United States
END:VEVENT
BEGIN:VEVENT
DTSTART;TZID=America/Phoenix:20260619T100000
DTEND;TZID=America/Phoenix:20260619T120000
DTSTAMP:20260422T114102
CREATED:20251022T163357Z
LAST-MODIFIED:20251022T163557Z
UID:21015-1781863200-1781870400@arcofscw.com
SUMMARY:Western Bank Mini Car Show
DESCRIPTION:Mini Car Show every Third Friday 10am-noon
URL:https://arcofscw.com/event/western-bank-mini-car-show-9
LOCATION:Western Bank\, 19440 N. RH Johnson\, Sun City West\, AZ\, 85375\, United States
END:VEVENT
END:VCALENDAR